BEGIN:VCALENDAR
VERSION:2.0
PRODID:-//Bethel Presbyterian Church - ECPv6.13.2.1//NONSGML v1.0//EN
CALSCALE:GREGORIAN
METHOD:PUBLISH
X-ORIGINAL-URL:https://bethel-md.org
X-WR-CALDESC:Events for Bethel Presbyterian Church
REFRESH-INTERVAL;VALUE=DURATION:PT1H
X-Robots-Tag:noindex
X-PUBLISHED-TTL:PT1H
BEGIN:VTIMEZONE
TZID:America/New_York
BEGIN:DAYLIGHT
TZOFFSETFROM:-0500
TZOFFSETTO:-0400
TZNAME:EDT
DTSTART:20260308T070000
END:DAYLIGHT
BEGIN:STANDARD
TZOFFSETFROM:-0400
TZOFFSETTO:-0500
TZNAME:EST
DTSTART:20261101T060000
END:STANDARD
END:VTIMEZONE
BEGIN:VEVENT
DTSTART;TZID=America/New_York:20260426T093000
DTEND;TZID=America/New_York:20260426T103000
DTSTAMP:20260422T044241
CREATED:20250807T181626Z
LAST-MODIFIED:20250807T181626Z
UID:10904-1777195800-1777199400@bethel-md.org
SUMMARY:Sunday School
DESCRIPTION:
URL:https://bethel-md.org/events/sunday-school-2026-02-01/2026-04-26/
LOCATION:Bethel Presbyterian Church\, 4135 Norrisville Road\, White Hall\, MD\, 21161\, United States
GEO:39.613627;-76.522608
X-APPLE-STRUCTURED-LOCATION;VALUE=URI;X-ADDRESS=Bethel Presbyterian Church 4135 Norrisville Road White Hall MD 21161 United States;X-APPLE-RADIUS=500;X-TITLE=4135 Norrisville Road:geo:-76.522608,39.613627
END:VEVENT
BEGIN:VEVENT
DTSTART;TZID=America/New_York:20260503T093000
DTEND;TZID=America/New_York:20260503T103000
DTSTAMP:20260422T044241
CREATED:20250807T181626Z
LAST-MODIFIED:20250807T181626Z
UID:10905-1777800600-1777804200@bethel-md.org
SUMMARY:Sunday School
DESCRIPTION:
URL:https://bethel-md.org/events/sunday-school-2026-02-01/2026-05-03/
LOCATION:Bethel Presbyterian Church\, 4135 Norrisville Road\, White Hall\, MD\, 21161\, United States
GEO:39.613627;-76.522608
X-APPLE-STRUCTURED-LOCATION;VALUE=URI;X-ADDRESS=Bethel Presbyterian Church 4135 Norrisville Road White Hall MD 21161 United States;X-APPLE-RADIUS=500;X-TITLE=4135 Norrisville Road:geo:-76.522608,39.613627
END:VEVENT
END:VCALENDAR