BEGIN:VCALENDAR
VERSION:2.0
PRODID:-//Bethel Presbyterian Church - ECPv6.13.2.1//NONSGML v1.0//EN
CALSCALE:GREGORIAN
METHOD:PUBLISH
X-ORIGINAL-URL:https://bethel-md.org
X-WR-CALDESC:Events for Bethel Presbyterian Church
REFRESH-INTERVAL;VALUE=DURATION:PT1H
X-Robots-Tag:noindex
X-PUBLISHED-TTL:PT1H
BEGIN:VTIMEZONE
TZID:America/New_York
BEGIN:DAYLIGHT
TZOFFSETFROM:-0500
TZOFFSETTO:-0400
TZNAME:EDT
DTSTART:20260308T070000
END:DAYLIGHT
BEGIN:STANDARD
TZOFFSETFROM:-0400
TZOFFSETTO:-0500
TZNAME:EST
DTSTART:20261101T060000
END:STANDARD
END:VTIMEZONE
BEGIN:VEVENT
DTSTART;TZID=America/New_York:20260425T180000
DTEND;TZID=America/New_York:20260425T210000
DTSTAMP:20260424T064632
CREATED:20260421T202855Z
LAST-MODIFIED:20260421T202855Z
UID:11215-1777140000-1777150800@bethel-md.org
SUMMARY:Minecraft Pizza Party
DESCRIPTION:
URL:https://bethel-md.org/events/minecraft-pizza-party/
LOCATION:Bethel Presbyterian Church\, 4135 Norrisville Road\, White Hall\, MD\, 21161\, United States
ATTACH;FMTTYPE=image/png:https://bethel-md.org/wp-content/uploads/2026/04/Minecraft-Pizza-Party-04.25.2026.png
GEO:39.613627;-76.522608
X-APPLE-STRUCTURED-LOCATION;VALUE=URI;X-ADDRESS=Bethel Presbyterian Church 4135 Norrisville Road White Hall MD 21161 United States;X-APPLE-RADIUS=500;X-TITLE=4135 Norrisville Road:geo:-76.522608,39.613627
END:VEVENT
BEGIN:VEVENT
DTSTART;TZID=America/New_York:20260426T093000
DTEND;TZID=America/New_York:20260426T103000
DTSTAMP:20260424T064632
CREATED:20250807T181626Z
LAST-MODIFIED:20250807T181626Z
UID:10904-1777195800-1777199400@bethel-md.org
SUMMARY:Sunday School
DESCRIPTION:
URL:https://bethel-md.org/events/sunday-school-2026-02-01/2026-04-26/
LOCATION:Bethel Presbyterian Church\, 4135 Norrisville Road\, White Hall\, MD\, 21161\, United States
GEO:39.613627;-76.522608
X-APPLE-STRUCTURED-LOCATION;VALUE=URI;X-ADDRESS=Bethel Presbyterian Church 4135 Norrisville Road White Hall MD 21161 United States;X-APPLE-RADIUS=500;X-TITLE=4135 Norrisville Road:geo:-76.522608,39.613627
END:VEVENT
BEGIN:VEVENT
DTSTART;TZID=America/New_York:20260426T103000
DTEND;TZID=America/New_York:20260426T113000
DTSTAMP:20260424T064632
CREATED:20250807T181716Z
LAST-MODIFIED:20250807T181716Z
UID:10481-1777199400-1777203000@bethel-md.org
SUMMARY:Worship Service
DESCRIPTION:
URL:https://bethel-md.org/events/worship-service-3/2026-04-26/
LOCATION:Bethel Presbyterian Church\, 4135 Norrisville Road\, White Hall\, MD\, 21161\, United States
GEO:39.613627;-76.522608
X-APPLE-STRUCTURED-LOCATION;VALUE=URI;X-ADDRESS=Bethel Presbyterian Church 4135 Norrisville Road White Hall MD 21161 United States;X-APPLE-RADIUS=500;X-TITLE=4135 Norrisville Road:geo:-76.522608,39.613627
END:VEVENT
BEGIN:VEVENT
DTSTART;TZID=America/New_York:20260427T100000
DTEND;TZID=America/New_York:20260427T110000
DTSTAMP:20260424T064632
CREATED:20250605T191017Z
LAST-MODIFIED:20250605T191017Z
UID:10032-1777284000-1777287600@bethel-md.org
SUMMARY:Bethel Women's Group Bible Study
DESCRIPTION:
URL:https://bethel-md.org/events/bethel-womens-group-bible-study/2026-04-27/
LOCATION:Christian Education Building Foyer\, 4135 Norrisville Road\, White Hall\, MD\, 21161\, United States
CATEGORIES:Woman’s Group
GEO:39.613627;-76.522608
X-APPLE-STRUCTURED-LOCATION;VALUE=URI;X-ADDRESS=Christian Education Building Foyer 4135 Norrisville Road White Hall MD 21161 United States;X-APPLE-RADIUS=500;X-TITLE=4135 Norrisville Road:geo:-76.522608,39.613627
END:VEVENT
BEGIN:VEVENT
DTSTART;TZID=America/New_York:20260427T190000
DTEND;TZID=America/New_York:20260427T200000
DTSTAMP:20260424T064632
CREATED:20260201T192158Z
LAST-MODIFIED:20260201T192158Z
UID:10971-1777316400-1777320000@bethel-md.org
SUMMARY:Safety & Security Committee Meeting
DESCRIPTION:
URL:https://bethel-md.org/events/safety-security-committee-meeting-5/
LOCATION:Bethel Presbyterian Church\, 4135 Norrisville Road\, White Hall\, MD\, 21161\, United States
GEO:39.613627;-76.522608
X-APPLE-STRUCTURED-LOCATION;VALUE=URI;X-ADDRESS=Bethel Presbyterian Church 4135 Norrisville Road White Hall MD 21161 United States;X-APPLE-RADIUS=500;X-TITLE=4135 Norrisville Road:geo:-76.522608,39.613627
END:VEVENT
BEGIN:VEVENT
DTSTART;TZID=America/New_York:20260428T180000
DTEND;TZID=America/New_York:20260428T190000
DTSTAMP:20260424T064632
CREATED:20250826T135016Z
LAST-MODIFIED:20260218T193527Z
UID:10648-1777399200-1777402800@bethel-md.org
SUMMARY:Choir Practice
DESCRIPTION:
URL:https://bethel-md.org/events/choir-practice-2/2026-04-28/
LOCATION:Bethel Presbyterian Church\, 4135 Norrisville Road\, White Hall\, MD\, 21161\, United States
GEO:39.613627;-76.522608
X-APPLE-STRUCTURED-LOCATION;VALUE=URI;X-ADDRESS=Bethel Presbyterian Church 4135 Norrisville Road White Hall MD 21161 United States;X-APPLE-RADIUS=500;X-TITLE=4135 Norrisville Road:geo:-76.522608,39.613627
END:VEVENT
BEGIN:VEVENT
DTSTART;TZID=America/New_York:20260428T180000
DTEND;TZID=America/New_York:20260428T203000
DTSTAMP:20260424T064632
CREATED:20250610T210946Z
LAST-MODIFIED:20260218T193311Z
UID:10945-1777399200-1777408200@bethel-md.org
SUMMARY:Bridge Game
DESCRIPTION:
URL:https://bethel-md.org/events/bridge-game-2026-02-03/2026-04-28/
LOCATION:Bethel Presbyterian Church\, 4135 Norrisville Road\, White Hall\, MD\, 21161\, United States
GEO:39.613627;-76.522608
X-APPLE-STRUCTURED-LOCATION;VALUE=URI;X-ADDRESS=Bethel Presbyterian Church 4135 Norrisville Road White Hall MD 21161 United States;X-APPLE-RADIUS=500;X-TITLE=4135 Norrisville Road:geo:-76.522608,39.613627
END:VEVENT
END:VCALENDAR