BEGIN:VCALENDAR
VERSION:2.0
PRODID:-//Bethel Presbyterian Church - ECPv6.13.2.1//NONSGML v1.0//EN
CALSCALE:GREGORIAN
METHOD:PUBLISH
X-WR-CALNAME:Bethel Presbyterian Church
X-ORIGINAL-URL:https://bethel-md.org
X-WR-CALDESC:Events for Bethel Presbyterian Church
REFRESH-INTERVAL;VALUE=DURATION:PT1H
X-Robots-Tag:noindex
X-PUBLISHED-TTL:PT1H
BEGIN:VTIMEZONE
TZID:America/New_York
BEGIN:DAYLIGHT
TZOFFSETFROM:-0500
TZOFFSETTO:-0400
TZNAME:EDT
DTSTART:20260308T070000
END:DAYLIGHT
BEGIN:STANDARD
TZOFFSETFROM:-0400
TZOFFSETTO:-0500
TZNAME:EST
DTSTART:20261101T060000
END:STANDARD
END:VTIMEZONE
BEGIN:VEVENT
DTSTART;TZID=America/New_York:20260513T190000
DTEND;TZID=America/New_York:20260513T200000
DTSTAMP:20260424T080901
CREATED:20250610T212358Z
LAST-MODIFIED:20260218T202313Z
UID:10239-1778698800-1778702400@bethel-md.org
SUMMARY:Finance Committee Meeting
DESCRIPTION:
URL:https://bethel-md.org/events/finance-committee-meeting/2026-05-13/
LOCATION:Bethel Presbyterian Church\, 4135 Norrisville Road\, White Hall\, MD\, 21161\, United States
GEO:39.613627;-76.522608
X-APPLE-STRUCTURED-LOCATION;VALUE=URI;X-ADDRESS=Bethel Presbyterian Church 4135 Norrisville Road White Hall MD 21161 United States;X-APPLE-RADIUS=500;X-TITLE=4135 Norrisville Road:geo:-76.522608,39.613627
END:VEVENT
BEGIN:VEVENT
DTSTART;TZID=America/New_York:20260610T190000
DTEND;TZID=America/New_York:20260610T200000
DTSTAMP:20260424T080901
CREATED:20250610T212358Z
LAST-MODIFIED:20260218T202314Z
UID:10240-1781118000-1781121600@bethel-md.org
SUMMARY:Finance Committee Meeting
DESCRIPTION:
URL:https://bethel-md.org/events/finance-committee-meeting/2026-06-10/
LOCATION:Bethel Presbyterian Church\, 4135 Norrisville Road\, White Hall\, MD\, 21161\, United States
GEO:39.613627;-76.522608
X-APPLE-STRUCTURED-LOCATION;VALUE=URI;X-ADDRESS=Bethel Presbyterian Church 4135 Norrisville Road White Hall MD 21161 United States;X-APPLE-RADIUS=500;X-TITLE=4135 Norrisville Road:geo:-76.522608,39.613627
END:VEVENT
BEGIN:VEVENT
DTSTART;TZID=America/New_York:20260708T190000
DTEND;TZID=America/New_York:20260708T200000
DTSTAMP:20260424T080901
CREATED:20250610T212358Z
LAST-MODIFIED:20250610T212358Z
UID:11148-1783537200-1783540800@bethel-md.org
SUMMARY:Finance Committee Meeting
DESCRIPTION:
URL:https://bethel-md.org/events/finance-committee-meeting/2026-07-08/
LOCATION:Bethel Presbyterian Church\, 4135 Norrisville Road\, White Hall\, MD\, 21161\, United States
GEO:39.613627;-76.522608
X-APPLE-STRUCTURED-LOCATION;VALUE=URI;X-ADDRESS=Bethel Presbyterian Church 4135 Norrisville Road White Hall MD 21161 United States;X-APPLE-RADIUS=500;X-TITLE=4135 Norrisville Road:geo:-76.522608,39.613627
END:VEVENT
BEGIN:VEVENT
DTSTART;TZID=America/New_York:20260812T190000
DTEND;TZID=America/New_York:20260812T200000
DTSTAMP:20260424T080901
CREATED:20250610T212358Z
LAST-MODIFIED:20250610T212358Z
UID:11149-1786561200-1786564800@bethel-md.org
SUMMARY:Finance Committee Meeting
DESCRIPTION:
URL:https://bethel-md.org/events/finance-committee-meeting/2026-08-12/
LOCATION:Bethel Presbyterian Church\, 4135 Norrisville Road\, White Hall\, MD\, 21161\, United States
GEO:39.613627;-76.522608
X-APPLE-STRUCTURED-LOCATION;VALUE=URI;X-ADDRESS=Bethel Presbyterian Church 4135 Norrisville Road White Hall MD 21161 United States;X-APPLE-RADIUS=500;X-TITLE=4135 Norrisville Road:geo:-76.522608,39.613627
END:VEVENT
BEGIN:VEVENT
DTSTART;TZID=America/New_York:20260909T190000
DTEND;TZID=America/New_York:20260909T200000
DTSTAMP:20260424T080901
CREATED:20250610T212358Z
LAST-MODIFIED:20250610T212358Z
UID:11150-1788980400-1788984000@bethel-md.org
SUMMARY:Finance Committee Meeting
DESCRIPTION:
URL:https://bethel-md.org/events/finance-committee-meeting/2026-09-09/
LOCATION:Bethel Presbyterian Church\, 4135 Norrisville Road\, White Hall\, MD\, 21161\, United States
GEO:39.613627;-76.522608
X-APPLE-STRUCTURED-LOCATION;VALUE=URI;X-ADDRESS=Bethel Presbyterian Church 4135 Norrisville Road White Hall MD 21161 United States;X-APPLE-RADIUS=500;X-TITLE=4135 Norrisville Road:geo:-76.522608,39.613627
END:VEVENT
BEGIN:VEVENT
DTSTART;TZID=America/New_York:20261014T190000
DTEND;TZID=America/New_York:20261014T200000
DTSTAMP:20260424T080901
CREATED:20250610T212358Z
LAST-MODIFIED:20250610T212358Z
UID:11151-1792004400-1792008000@bethel-md.org
SUMMARY:Finance Committee Meeting
DESCRIPTION:
URL:https://bethel-md.org/events/finance-committee-meeting/2026-10-14/
LOCATION:Bethel Presbyterian Church\, 4135 Norrisville Road\, White Hall\, MD\, 21161\, United States
GEO:39.613627;-76.522608
X-APPLE-STRUCTURED-LOCATION;VALUE=URI;X-ADDRESS=Bethel Presbyterian Church 4135 Norrisville Road White Hall MD 21161 United States;X-APPLE-RADIUS=500;X-TITLE=4135 Norrisville Road:geo:-76.522608,39.613627
END:VEVENT
BEGIN:VEVENT
DTSTART;TZID=America/New_York:20261111T190000
DTEND;TZID=America/New_York:20261111T200000
DTSTAMP:20260424T080901
CREATED:20250610T212358Z
LAST-MODIFIED:20250610T212358Z
UID:11152-1794423600-1794427200@bethel-md.org
SUMMARY:Finance Committee Meeting
DESCRIPTION:
URL:https://bethel-md.org/events/finance-committee-meeting/2026-11-11/
LOCATION:Bethel Presbyterian Church\, 4135 Norrisville Road\, White Hall\, MD\, 21161\, United States
GEO:39.613627;-76.522608
X-APPLE-STRUCTURED-LOCATION;VALUE=URI;X-ADDRESS=Bethel Presbyterian Church 4135 Norrisville Road White Hall MD 21161 United States;X-APPLE-RADIUS=500;X-TITLE=4135 Norrisville Road:geo:-76.522608,39.613627
END:VEVENT
BEGIN:VEVENT
DTSTART;TZID=America/New_York:20261209T190000
DTEND;TZID=America/New_York:20261209T200000
DTSTAMP:20260424T080901
CREATED:20250610T212358Z
LAST-MODIFIED:20250610T212358Z
UID:11153-1796842800-1796846400@bethel-md.org
SUMMARY:Finance Committee Meeting
DESCRIPTION:
URL:https://bethel-md.org/events/finance-committee-meeting/2026-12-09/
LOCATION:Bethel Presbyterian Church\, 4135 Norrisville Road\, White Hall\, MD\, 21161\, United States
GEO:39.613627;-76.522608
X-APPLE-STRUCTURED-LOCATION;VALUE=URI;X-ADDRESS=Bethel Presbyterian Church 4135 Norrisville Road White Hall MD 21161 United States;X-APPLE-RADIUS=500;X-TITLE=4135 Norrisville Road:geo:-76.522608,39.613627
END:VEVENT
END:VCALENDAR