BEGIN:VCALENDAR
VERSION:2.0
PRODID:-//Bethel Presbyterian Church - ECPv6.13.2.1//NONSGML v1.0//EN
CALSCALE:GREGORIAN
METHOD:PUBLISH
X-ORIGINAL-URL:https://bethel-md.org
X-WR-CALDESC:Events for Bethel Presbyterian Church
REFRESH-INTERVAL;VALUE=DURATION:PT1H
X-Robots-Tag:noindex
X-PUBLISHED-TTL:PT1H
BEGIN:VTIMEZONE
TZID:America/New_York
BEGIN:DAYLIGHT
TZOFFSETFROM:-0500
TZOFFSETTO:-0400
TZNAME:EDT
DTSTART:20260308T070000
END:DAYLIGHT
BEGIN:STANDARD
TZOFFSETFROM:-0400
TZOFFSETTO:-0500
TZNAME:EST
DTSTART:20261101T060000
END:STANDARD
END:VTIMEZONE
BEGIN:VEVENT
DTSTART;TZID=America/New_York:20260428T180000
DTEND;TZID=America/New_York:20260428T190000
DTSTAMP:20260424T053455
CREATED:20250826T135016Z
LAST-MODIFIED:20260218T193527Z
UID:10648-1777399200-1777402800@bethel-md.org
SUMMARY:Choir Practice
DESCRIPTION:
URL:https://bethel-md.org/events/choir-practice-2/2026-04-28/
LOCATION:Bethel Presbyterian Church\, 4135 Norrisville Road\, White Hall\, MD\, 21161\, United States
GEO:39.613627;-76.522608
X-APPLE-STRUCTURED-LOCATION;VALUE=URI;X-ADDRESS=Bethel Presbyterian Church 4135 Norrisville Road White Hall MD 21161 United States;X-APPLE-RADIUS=500;X-TITLE=4135 Norrisville Road:geo:-76.522608,39.613627
END:VEVENT
BEGIN:VEVENT
DTSTART;TZID=America/New_York:20260505T180000
DTEND;TZID=America/New_York:20260505T190000
DTSTAMP:20260424T053455
CREATED:20250826T135016Z
LAST-MODIFIED:20260218T193527Z
UID:10649-1778004000-1778007600@bethel-md.org
SUMMARY:Choir Practice
DESCRIPTION:
URL:https://bethel-md.org/events/choir-practice-2/2026-05-05/
LOCATION:Bethel Presbyterian Church\, 4135 Norrisville Road\, White Hall\, MD\, 21161\, United States
GEO:39.613627;-76.522608
X-APPLE-STRUCTURED-LOCATION;VALUE=URI;X-ADDRESS=Bethel Presbyterian Church 4135 Norrisville Road White Hall MD 21161 United States;X-APPLE-RADIUS=500;X-TITLE=4135 Norrisville Road:geo:-76.522608,39.613627
END:VEVENT
BEGIN:VEVENT
DTSTART;TZID=America/New_York:20260512T180000
DTEND;TZID=America/New_York:20260512T190000
DTSTAMP:20260424T053455
CREATED:20250826T135016Z
LAST-MODIFIED:20260218T193527Z
UID:10650-1778608800-1778612400@bethel-md.org
SUMMARY:Choir Practice
DESCRIPTION:
URL:https://bethel-md.org/events/choir-practice-2/2026-05-12/
LOCATION:Bethel Presbyterian Church\, 4135 Norrisville Road\, White Hall\, MD\, 21161\, United States
GEO:39.613627;-76.522608
X-APPLE-STRUCTURED-LOCATION;VALUE=URI;X-ADDRESS=Bethel Presbyterian Church 4135 Norrisville Road White Hall MD 21161 United States;X-APPLE-RADIUS=500;X-TITLE=4135 Norrisville Road:geo:-76.522608,39.613627
END:VEVENT
BEGIN:VEVENT
DTSTART;TZID=America/New_York:20260519T180000
DTEND;TZID=America/New_York:20260519T190000
DTSTAMP:20260424T053455
CREATED:20250826T135016Z
LAST-MODIFIED:20260218T193527Z
UID:10651-1779213600-1779217200@bethel-md.org
SUMMARY:Choir Practice
DESCRIPTION:
URL:https://bethel-md.org/events/choir-practice-2/2026-05-19/
LOCATION:Bethel Presbyterian Church\, 4135 Norrisville Road\, White Hall\, MD\, 21161\, United States
GEO:39.613627;-76.522608
X-APPLE-STRUCTURED-LOCATION;VALUE=URI;X-ADDRESS=Bethel Presbyterian Church 4135 Norrisville Road White Hall MD 21161 United States;X-APPLE-RADIUS=500;X-TITLE=4135 Norrisville Road:geo:-76.522608,39.613627
END:VEVENT
BEGIN:VEVENT
DTSTART;TZID=America/New_York:20260526T180000
DTEND;TZID=America/New_York:20260526T190000
DTSTAMP:20260424T053455
CREATED:20250826T135016Z
LAST-MODIFIED:20260218T193527Z
UID:10652-1779818400-1779822000@bethel-md.org
SUMMARY:Choir Practice
DESCRIPTION:
URL:https://bethel-md.org/events/choir-practice-2/2026-05-26/
LOCATION:Bethel Presbyterian Church\, 4135 Norrisville Road\, White Hall\, MD\, 21161\, United States
GEO:39.613627;-76.522608
X-APPLE-STRUCTURED-LOCATION;VALUE=URI;X-ADDRESS=Bethel Presbyterian Church 4135 Norrisville Road White Hall MD 21161 United States;X-APPLE-RADIUS=500;X-TITLE=4135 Norrisville Road:geo:-76.522608,39.613627
END:VEVENT
BEGIN:VEVENT
DTSTART;TZID=America/New_York:20260602T180000
DTEND;TZID=America/New_York:20260602T190000
DTSTAMP:20260424T053455
CREATED:20250826T135016Z
LAST-MODIFIED:20260218T193528Z
UID:10653-1780423200-1780426800@bethel-md.org
SUMMARY:Choir Practice
DESCRIPTION:
URL:https://bethel-md.org/events/choir-practice-2/2026-06-02/
LOCATION:Bethel Presbyterian Church\, 4135 Norrisville Road\, White Hall\, MD\, 21161\, United States
GEO:39.613627;-76.522608
X-APPLE-STRUCTURED-LOCATION;VALUE=URI;X-ADDRESS=Bethel Presbyterian Church 4135 Norrisville Road White Hall MD 21161 United States;X-APPLE-RADIUS=500;X-TITLE=4135 Norrisville Road:geo:-76.522608,39.613627
END:VEVENT
BEGIN:VEVENT
DTSTART;TZID=America/New_York:20260609T180000
DTEND;TZID=America/New_York:20260609T190000
DTSTAMP:20260424T053455
CREATED:20250826T135016Z
LAST-MODIFIED:20250826T135016Z
UID:11118-1781028000-1781031600@bethel-md.org
SUMMARY:Choir Practice
DESCRIPTION:
URL:https://bethel-md.org/events/choir-practice-2/2026-06-09/
LOCATION:Bethel Presbyterian Church\, 4135 Norrisville Road\, White Hall\, MD\, 21161\, United States
GEO:39.613627;-76.522608
X-APPLE-STRUCTURED-LOCATION;VALUE=URI;X-ADDRESS=Bethel Presbyterian Church 4135 Norrisville Road White Hall MD 21161 United States;X-APPLE-RADIUS=500;X-TITLE=4135 Norrisville Road:geo:-76.522608,39.613627
END:VEVENT
BEGIN:VEVENT
DTSTART;TZID=America/New_York:20260616T180000
DTEND;TZID=America/New_York:20260616T190000
DTSTAMP:20260424T053455
CREATED:20250826T135016Z
LAST-MODIFIED:20250826T135016Z
UID:11119-1781632800-1781636400@bethel-md.org
SUMMARY:Choir Practice
DESCRIPTION:
URL:https://bethel-md.org/events/choir-practice-2/2026-06-16/
LOCATION:Bethel Presbyterian Church\, 4135 Norrisville Road\, White Hall\, MD\, 21161\, United States
GEO:39.613627;-76.522608
X-APPLE-STRUCTURED-LOCATION;VALUE=URI;X-ADDRESS=Bethel Presbyterian Church 4135 Norrisville Road White Hall MD 21161 United States;X-APPLE-RADIUS=500;X-TITLE=4135 Norrisville Road:geo:-76.522608,39.613627
END:VEVENT
BEGIN:VEVENT
DTSTART;TZID=America/New_York:20260623T180000
DTEND;TZID=America/New_York:20260623T190000
DTSTAMP:20260424T053455
CREATED:20250826T135016Z
LAST-MODIFIED:20250826T135016Z
UID:11120-1782237600-1782241200@bethel-md.org
SUMMARY:Choir Practice
DESCRIPTION:
URL:https://bethel-md.org/events/choir-practice-2/2026-06-23/
LOCATION:Bethel Presbyterian Church\, 4135 Norrisville Road\, White Hall\, MD\, 21161\, United States
GEO:39.613627;-76.522608
X-APPLE-STRUCTURED-LOCATION;VALUE=URI;X-ADDRESS=Bethel Presbyterian Church 4135 Norrisville Road White Hall MD 21161 United States;X-APPLE-RADIUS=500;X-TITLE=4135 Norrisville Road:geo:-76.522608,39.613627
END:VEVENT
BEGIN:VEVENT
DTSTART;TZID=America/New_York:20260630T180000
DTEND;TZID=America/New_York:20260630T190000
DTSTAMP:20260424T053455
CREATED:20250826T135016Z
LAST-MODIFIED:20250826T135016Z
UID:11121-1782842400-1782846000@bethel-md.org
SUMMARY:Choir Practice
DESCRIPTION:
URL:https://bethel-md.org/events/choir-practice-2/2026-06-30/
LOCATION:Bethel Presbyterian Church\, 4135 Norrisville Road\, White Hall\, MD\, 21161\, United States
GEO:39.613627;-76.522608
X-APPLE-STRUCTURED-LOCATION;VALUE=URI;X-ADDRESS=Bethel Presbyterian Church 4135 Norrisville Road White Hall MD 21161 United States;X-APPLE-RADIUS=500;X-TITLE=4135 Norrisville Road:geo:-76.522608,39.613627
END:VEVENT
BEGIN:VEVENT
DTSTART;TZID=America/New_York:20260707T180000
DTEND;TZID=America/New_York:20260707T190000
DTSTAMP:20260424T053455
CREATED:20250826T135016Z
LAST-MODIFIED:20250826T135016Z
UID:11122-1783447200-1783450800@bethel-md.org
SUMMARY:Choir Practice
DESCRIPTION:
URL:https://bethel-md.org/events/choir-practice-2/2026-07-07/
LOCATION:Bethel Presbyterian Church\, 4135 Norrisville Road\, White Hall\, MD\, 21161\, United States
GEO:39.613627;-76.522608
X-APPLE-STRUCTURED-LOCATION;VALUE=URI;X-ADDRESS=Bethel Presbyterian Church 4135 Norrisville Road White Hall MD 21161 United States;X-APPLE-RADIUS=500;X-TITLE=4135 Norrisville Road:geo:-76.522608,39.613627
END:VEVENT
BEGIN:VEVENT
DTSTART;TZID=America/New_York:20260714T180000
DTEND;TZID=America/New_York:20260714T190000
DTSTAMP:20260424T053455
CREATED:20250826T135016Z
LAST-MODIFIED:20250826T135016Z
UID:11123-1784052000-1784055600@bethel-md.org
SUMMARY:Choir Practice
DESCRIPTION:
URL:https://bethel-md.org/events/choir-practice-2/2026-07-14/
LOCATION:Bethel Presbyterian Church\, 4135 Norrisville Road\, White Hall\, MD\, 21161\, United States
GEO:39.613627;-76.522608
X-APPLE-STRUCTURED-LOCATION;VALUE=URI;X-ADDRESS=Bethel Presbyterian Church 4135 Norrisville Road White Hall MD 21161 United States;X-APPLE-RADIUS=500;X-TITLE=4135 Norrisville Road:geo:-76.522608,39.613627
END:VEVENT
BEGIN:VEVENT
DTSTART;TZID=America/New_York:20260721T180000
DTEND;TZID=America/New_York:20260721T190000
DTSTAMP:20260424T053455
CREATED:20250826T135016Z
LAST-MODIFIED:20250826T135016Z
UID:11124-1784656800-1784660400@bethel-md.org
SUMMARY:Choir Practice
DESCRIPTION:
URL:https://bethel-md.org/events/choir-practice-2/2026-07-21/
LOCATION:Bethel Presbyterian Church\, 4135 Norrisville Road\, White Hall\, MD\, 21161\, United States
GEO:39.613627;-76.522608
X-APPLE-STRUCTURED-LOCATION;VALUE=URI;X-ADDRESS=Bethel Presbyterian Church 4135 Norrisville Road White Hall MD 21161 United States;X-APPLE-RADIUS=500;X-TITLE=4135 Norrisville Road:geo:-76.522608,39.613627
END:VEVENT
BEGIN:VEVENT
DTSTART;TZID=America/New_York:20260728T180000
DTEND;TZID=America/New_York:20260728T190000
DTSTAMP:20260424T053455
CREATED:20250826T135016Z
LAST-MODIFIED:20250826T135016Z
UID:11125-1785261600-1785265200@bethel-md.org
SUMMARY:Choir Practice
DESCRIPTION:
URL:https://bethel-md.org/events/choir-practice-2/2026-07-28/
LOCATION:Bethel Presbyterian Church\, 4135 Norrisville Road\, White Hall\, MD\, 21161\, United States
GEO:39.613627;-76.522608
X-APPLE-STRUCTURED-LOCATION;VALUE=URI;X-ADDRESS=Bethel Presbyterian Church 4135 Norrisville Road White Hall MD 21161 United States;X-APPLE-RADIUS=500;X-TITLE=4135 Norrisville Road:geo:-76.522608,39.613627
END:VEVENT
BEGIN:VEVENT
DTSTART;TZID=America/New_York:20260804T180000
DTEND;TZID=America/New_York:20260804T190000
DTSTAMP:20260424T053455
CREATED:20250826T135016Z
LAST-MODIFIED:20250826T135016Z
UID:11126-1785866400-1785870000@bethel-md.org
SUMMARY:Choir Practice
DESCRIPTION:
URL:https://bethel-md.org/events/choir-practice-2/2026-08-04/
LOCATION:Bethel Presbyterian Church\, 4135 Norrisville Road\, White Hall\, MD\, 21161\, United States
GEO:39.613627;-76.522608
X-APPLE-STRUCTURED-LOCATION;VALUE=URI;X-ADDRESS=Bethel Presbyterian Church 4135 Norrisville Road White Hall MD 21161 United States;X-APPLE-RADIUS=500;X-TITLE=4135 Norrisville Road:geo:-76.522608,39.613627
END:VEVENT
BEGIN:VEVENT
DTSTART;TZID=America/New_York:20260811T180000
DTEND;TZID=America/New_York:20260811T190000
DTSTAMP:20260424T053455
CREATED:20250826T135016Z
LAST-MODIFIED:20250826T135016Z
UID:11127-1786471200-1786474800@bethel-md.org
SUMMARY:Choir Practice
DESCRIPTION:
URL:https://bethel-md.org/events/choir-practice-2/2026-08-11/
LOCATION:Bethel Presbyterian Church\, 4135 Norrisville Road\, White Hall\, MD\, 21161\, United States
GEO:39.613627;-76.522608
X-APPLE-STRUCTURED-LOCATION;VALUE=URI;X-ADDRESS=Bethel Presbyterian Church 4135 Norrisville Road White Hall MD 21161 United States;X-APPLE-RADIUS=500;X-TITLE=4135 Norrisville Road:geo:-76.522608,39.613627
END:VEVENT
BEGIN:VEVENT
DTSTART;TZID=America/New_York:20260818T180000
DTEND;TZID=America/New_York:20260818T190000
DTSTAMP:20260424T053455
CREATED:20250826T135016Z
LAST-MODIFIED:20250826T135016Z
UID:11128-1787076000-1787079600@bethel-md.org
SUMMARY:Choir Practice
DESCRIPTION:
URL:https://bethel-md.org/events/choir-practice-2/2026-08-18/
LOCATION:Bethel Presbyterian Church\, 4135 Norrisville Road\, White Hall\, MD\, 21161\, United States
GEO:39.613627;-76.522608
X-APPLE-STRUCTURED-LOCATION;VALUE=URI;X-ADDRESS=Bethel Presbyterian Church 4135 Norrisville Road White Hall MD 21161 United States;X-APPLE-RADIUS=500;X-TITLE=4135 Norrisville Road:geo:-76.522608,39.613627
END:VEVENT
BEGIN:VEVENT
DTSTART;TZID=America/New_York:20260825T180000
DTEND;TZID=America/New_York:20260825T190000
DTSTAMP:20260424T053455
CREATED:20250826T135016Z
LAST-MODIFIED:20250826T135016Z
UID:11129-1787680800-1787684400@bethel-md.org
SUMMARY:Choir Practice
DESCRIPTION:
URL:https://bethel-md.org/events/choir-practice-2/2026-08-25/
LOCATION:Bethel Presbyterian Church\, 4135 Norrisville Road\, White Hall\, MD\, 21161\, United States
GEO:39.613627;-76.522608
X-APPLE-STRUCTURED-LOCATION;VALUE=URI;X-ADDRESS=Bethel Presbyterian Church 4135 Norrisville Road White Hall MD 21161 United States;X-APPLE-RADIUS=500;X-TITLE=4135 Norrisville Road:geo:-76.522608,39.613627
END:VEVENT
BEGIN:VEVENT
DTSTART;TZID=America/New_York:20260901T180000
DTEND;TZID=America/New_York:20260901T190000
DTSTAMP:20260424T053455
CREATED:20250826T135016Z
LAST-MODIFIED:20250826T135016Z
UID:11130-1788285600-1788289200@bethel-md.org
SUMMARY:Choir Practice
DESCRIPTION:
URL:https://bethel-md.org/events/choir-practice-2/2026-09-01/
LOCATION:Bethel Presbyterian Church\, 4135 Norrisville Road\, White Hall\, MD\, 21161\, United States
GEO:39.613627;-76.522608
X-APPLE-STRUCTURED-LOCATION;VALUE=URI;X-ADDRESS=Bethel Presbyterian Church 4135 Norrisville Road White Hall MD 21161 United States;X-APPLE-RADIUS=500;X-TITLE=4135 Norrisville Road:geo:-76.522608,39.613627
END:VEVENT
BEGIN:VEVENT
DTSTART;TZID=America/New_York:20260908T180000
DTEND;TZID=America/New_York:20260908T190000
DTSTAMP:20260424T053455
CREATED:20250826T135016Z
LAST-MODIFIED:20250826T135016Z
UID:11131-1788890400-1788894000@bethel-md.org
SUMMARY:Choir Practice
DESCRIPTION:
URL:https://bethel-md.org/events/choir-practice-2/2026-09-08/
LOCATION:Bethel Presbyterian Church\, 4135 Norrisville Road\, White Hall\, MD\, 21161\, United States
GEO:39.613627;-76.522608
X-APPLE-STRUCTURED-LOCATION;VALUE=URI;X-ADDRESS=Bethel Presbyterian Church 4135 Norrisville Road White Hall MD 21161 United States;X-APPLE-RADIUS=500;X-TITLE=4135 Norrisville Road:geo:-76.522608,39.613627
END:VEVENT
BEGIN:VEVENT
DTSTART;TZID=America/New_York:20260915T180000
DTEND;TZID=America/New_York:20260915T190000
DTSTAMP:20260424T053455
CREATED:20250826T135016Z
LAST-MODIFIED:20250826T135016Z
UID:11132-1789495200-1789498800@bethel-md.org
SUMMARY:Choir Practice
DESCRIPTION:
URL:https://bethel-md.org/events/choir-practice-2/2026-09-15/
LOCATION:Bethel Presbyterian Church\, 4135 Norrisville Road\, White Hall\, MD\, 21161\, United States
GEO:39.613627;-76.522608
X-APPLE-STRUCTURED-LOCATION;VALUE=URI;X-ADDRESS=Bethel Presbyterian Church 4135 Norrisville Road White Hall MD 21161 United States;X-APPLE-RADIUS=500;X-TITLE=4135 Norrisville Road:geo:-76.522608,39.613627
END:VEVENT
BEGIN:VEVENT
DTSTART;TZID=America/New_York:20260922T180000
DTEND;TZID=America/New_York:20260922T190000
DTSTAMP:20260424T053455
CREATED:20250826T135016Z
LAST-MODIFIED:20250826T135016Z
UID:11133-1790100000-1790103600@bethel-md.org
SUMMARY:Choir Practice
DESCRIPTION:
URL:https://bethel-md.org/events/choir-practice-2/2026-09-22/
LOCATION:Bethel Presbyterian Church\, 4135 Norrisville Road\, White Hall\, MD\, 21161\, United States
GEO:39.613627;-76.522608
X-APPLE-STRUCTURED-LOCATION;VALUE=URI;X-ADDRESS=Bethel Presbyterian Church 4135 Norrisville Road White Hall MD 21161 United States;X-APPLE-RADIUS=500;X-TITLE=4135 Norrisville Road:geo:-76.522608,39.613627
END:VEVENT
BEGIN:VEVENT
DTSTART;TZID=America/New_York:20260929T180000
DTEND;TZID=America/New_York:20260929T190000
DTSTAMP:20260424T053455
CREATED:20250826T135016Z
LAST-MODIFIED:20250826T135016Z
UID:11134-1790704800-1790708400@bethel-md.org
SUMMARY:Choir Practice
DESCRIPTION:
URL:https://bethel-md.org/events/choir-practice-2/2026-09-29/
LOCATION:Bethel Presbyterian Church\, 4135 Norrisville Road\, White Hall\, MD\, 21161\, United States
GEO:39.613627;-76.522608
X-APPLE-STRUCTURED-LOCATION;VALUE=URI;X-ADDRESS=Bethel Presbyterian Church 4135 Norrisville Road White Hall MD 21161 United States;X-APPLE-RADIUS=500;X-TITLE=4135 Norrisville Road:geo:-76.522608,39.613627
END:VEVENT
BEGIN:VEVENT
DTSTART;TZID=America/New_York:20261006T180000
DTEND;TZID=America/New_York:20261006T190000
DTSTAMP:20260424T053455
CREATED:20250826T135016Z
LAST-MODIFIED:20250826T135016Z
UID:11135-1791309600-1791313200@bethel-md.org
SUMMARY:Choir Practice
DESCRIPTION:
URL:https://bethel-md.org/events/choir-practice-2/2026-10-06/
LOCATION:Bethel Presbyterian Church\, 4135 Norrisville Road\, White Hall\, MD\, 21161\, United States
GEO:39.613627;-76.522608
X-APPLE-STRUCTURED-LOCATION;VALUE=URI;X-ADDRESS=Bethel Presbyterian Church 4135 Norrisville Road White Hall MD 21161 United States;X-APPLE-RADIUS=500;X-TITLE=4135 Norrisville Road:geo:-76.522608,39.613627
END:VEVENT
BEGIN:VEVENT
DTSTART;TZID=America/New_York:20261013T180000
DTEND;TZID=America/New_York:20261013T190000
DTSTAMP:20260424T053455
CREATED:20250826T135016Z
LAST-MODIFIED:20250826T135016Z
UID:11136-1791914400-1791918000@bethel-md.org
SUMMARY:Choir Practice
DESCRIPTION:
URL:https://bethel-md.org/events/choir-practice-2/2026-10-13/
LOCATION:Bethel Presbyterian Church\, 4135 Norrisville Road\, White Hall\, MD\, 21161\, United States
GEO:39.613627;-76.522608
X-APPLE-STRUCTURED-LOCATION;VALUE=URI;X-ADDRESS=Bethel Presbyterian Church 4135 Norrisville Road White Hall MD 21161 United States;X-APPLE-RADIUS=500;X-TITLE=4135 Norrisville Road:geo:-76.522608,39.613627
END:VEVENT
BEGIN:VEVENT
DTSTART;TZID=America/New_York:20261020T180000
DTEND;TZID=America/New_York:20261020T190000
DTSTAMP:20260424T053455
CREATED:20250826T135016Z
LAST-MODIFIED:20250826T135016Z
UID:11137-1792519200-1792522800@bethel-md.org
SUMMARY:Choir Practice
DESCRIPTION:
URL:https://bethel-md.org/events/choir-practice-2/2026-10-20/
LOCATION:Bethel Presbyterian Church\, 4135 Norrisville Road\, White Hall\, MD\, 21161\, United States
GEO:39.613627;-76.522608
X-APPLE-STRUCTURED-LOCATION;VALUE=URI;X-ADDRESS=Bethel Presbyterian Church 4135 Norrisville Road White Hall MD 21161 United States;X-APPLE-RADIUS=500;X-TITLE=4135 Norrisville Road:geo:-76.522608,39.613627
END:VEVENT
BEGIN:VEVENT
DTSTART;TZID=America/New_York:20261027T180000
DTEND;TZID=America/New_York:20261027T190000
DTSTAMP:20260424T053455
CREATED:20250826T135016Z
LAST-MODIFIED:20250826T135016Z
UID:11138-1793124000-1793127600@bethel-md.org
SUMMARY:Choir Practice
DESCRIPTION:
URL:https://bethel-md.org/events/choir-practice-2/2026-10-27/
LOCATION:Bethel Presbyterian Church\, 4135 Norrisville Road\, White Hall\, MD\, 21161\, United States
GEO:39.613627;-76.522608
X-APPLE-STRUCTURED-LOCATION;VALUE=URI;X-ADDRESS=Bethel Presbyterian Church 4135 Norrisville Road White Hall MD 21161 United States;X-APPLE-RADIUS=500;X-TITLE=4135 Norrisville Road:geo:-76.522608,39.613627
END:VEVENT
BEGIN:VEVENT
DTSTART;TZID=America/New_York:20261103T180000
DTEND;TZID=America/New_York:20261103T190000
DTSTAMP:20260424T053455
CREATED:20250826T135016Z
LAST-MODIFIED:20250826T135016Z
UID:11139-1793728800-1793732400@bethel-md.org
SUMMARY:Choir Practice
DESCRIPTION:
URL:https://bethel-md.org/events/choir-practice-2/2026-11-03/
LOCATION:Bethel Presbyterian Church\, 4135 Norrisville Road\, White Hall\, MD\, 21161\, United States
GEO:39.613627;-76.522608
X-APPLE-STRUCTURED-LOCATION;VALUE=URI;X-ADDRESS=Bethel Presbyterian Church 4135 Norrisville Road White Hall MD 21161 United States;X-APPLE-RADIUS=500;X-TITLE=4135 Norrisville Road:geo:-76.522608,39.613627
END:VEVENT
BEGIN:VEVENT
DTSTART;TZID=America/New_York:20261110T180000
DTEND;TZID=America/New_York:20261110T190000
DTSTAMP:20260424T053455
CREATED:20250826T135016Z
LAST-MODIFIED:20250826T135016Z
UID:11140-1794333600-1794337200@bethel-md.org
SUMMARY:Choir Practice
DESCRIPTION:
URL:https://bethel-md.org/events/choir-practice-2/2026-11-10/
LOCATION:Bethel Presbyterian Church\, 4135 Norrisville Road\, White Hall\, MD\, 21161\, United States
GEO:39.613627;-76.522608
X-APPLE-STRUCTURED-LOCATION;VALUE=URI;X-ADDRESS=Bethel Presbyterian Church 4135 Norrisville Road White Hall MD 21161 United States;X-APPLE-RADIUS=500;X-TITLE=4135 Norrisville Road:geo:-76.522608,39.613627
END:VEVENT
BEGIN:VEVENT
DTSTART;TZID=America/New_York:20261117T180000
DTEND;TZID=America/New_York:20261117T190000
DTSTAMP:20260424T053455
CREATED:20250826T135016Z
LAST-MODIFIED:20250826T135016Z
UID:11141-1794938400-1794942000@bethel-md.org
SUMMARY:Choir Practice
DESCRIPTION:
URL:https://bethel-md.org/events/choir-practice-2/2026-11-17/
LOCATION:Bethel Presbyterian Church\, 4135 Norrisville Road\, White Hall\, MD\, 21161\, United States
GEO:39.613627;-76.522608
X-APPLE-STRUCTURED-LOCATION;VALUE=URI;X-ADDRESS=Bethel Presbyterian Church 4135 Norrisville Road White Hall MD 21161 United States;X-APPLE-RADIUS=500;X-TITLE=4135 Norrisville Road:geo:-76.522608,39.613627
END:VEVENT
END:VCALENDAR