BEGIN:VCALENDAR
VERSION:2.0
PRODID:-//Bethel Presbyterian Church - ECPv6.13.2.1//NONSGML v1.0//EN
CALSCALE:GREGORIAN
METHOD:PUBLISH
X-WR-CALNAME:Bethel Presbyterian Church
X-ORIGINAL-URL:https://bethel-md.org
X-WR-CALDESC:Events for Bethel Presbyterian Church
REFRESH-INTERVAL;VALUE=DURATION:PT1H
X-Robots-Tag:noindex
X-PUBLISHED-TTL:PT1H
BEGIN:VTIMEZONE
TZID:America/New_York
BEGIN:DAYLIGHT
TZOFFSETFROM:-0500
TZOFFSETTO:-0400
TZNAME:EDT
DTSTART:20250309T070000
END:DAYLIGHT
BEGIN:STANDARD
TZOFFSETFROM:-0400
TZOFFSETTO:-0500
TZNAME:EST
DTSTART:20251102T060000
END:STANDARD
BEGIN:DAYLIGHT
TZOFFSETFROM:-0500
TZOFFSETTO:-0400
TZNAME:EDT
DTSTART:20260308T070000
END:DAYLIGHT
BEGIN:STANDARD
TZOFFSETFROM:-0400
TZOFFSETTO:-0500
TZNAME:EST
DTSTART:20261101T060000
END:STANDARD
END:VTIMEZONE
BEGIN:VEVENT
DTSTART;TZID=America/New_York:20260127T183000
DTEND;TZID=America/New_York:20260127T203000
DTSTAMP:20260425T081016
CREATED:20250610T210946Z
LAST-MODIFIED:20250610T210946Z
UID:10091-1769538600-1769545800@bethel-md.org
SUMMARY:Bridge Game
DESCRIPTION:
URL:https://bethel-md.org/events/bridge-game/2026-01-27/
LOCATION:Bethel Presbyterian Church\, 4135 Norrisville Road\, White Hall\, MD\, 21161\, United States
GEO:39.613627;-76.522608
X-APPLE-STRUCTURED-LOCATION;VALUE=URI;X-ADDRESS=Bethel Presbyterian Church 4135 Norrisville Road White Hall MD 21161 United States;X-APPLE-RADIUS=500;X-TITLE=4135 Norrisville Road:geo:-76.522608,39.613627
END:VEVENT
BEGIN:VEVENT
DTSTART;TZID=America/New_York:20260120T183000
DTEND;TZID=America/New_York:20260120T203000
DTSTAMP:20260425T081016
CREATED:20250610T210946Z
LAST-MODIFIED:20250610T210946Z
UID:10090-1768933800-1768941000@bethel-md.org
SUMMARY:Bridge Game
DESCRIPTION:
URL:https://bethel-md.org/events/bridge-game/2026-01-20/
LOCATION:Bethel Presbyterian Church\, 4135 Norrisville Road\, White Hall\, MD\, 21161\, United States
GEO:39.613627;-76.522608
X-APPLE-STRUCTURED-LOCATION;VALUE=URI;X-ADDRESS=Bethel Presbyterian Church 4135 Norrisville Road White Hall MD 21161 United States;X-APPLE-RADIUS=500;X-TITLE=4135 Norrisville Road:geo:-76.522608,39.613627
END:VEVENT
BEGIN:VEVENT
DTSTART;TZID=America/New_York:20260113T183000
DTEND;TZID=America/New_York:20260113T203000
DTSTAMP:20260425T081016
CREATED:20250610T210946Z
LAST-MODIFIED:20250610T210946Z
UID:10089-1768329000-1768336200@bethel-md.org
SUMMARY:Bridge Game
DESCRIPTION:
URL:https://bethel-md.org/events/bridge-game/2026-01-13/
LOCATION:Bethel Presbyterian Church\, 4135 Norrisville Road\, White Hall\, MD\, 21161\, United States
GEO:39.613627;-76.522608
X-APPLE-STRUCTURED-LOCATION;VALUE=URI;X-ADDRESS=Bethel Presbyterian Church 4135 Norrisville Road White Hall MD 21161 United States;X-APPLE-RADIUS=500;X-TITLE=4135 Norrisville Road:geo:-76.522608,39.613627
END:VEVENT
BEGIN:VEVENT
DTSTART;TZID=America/New_York:20260106T183000
DTEND;TZID=America/New_York:20260106T203000
DTSTAMP:20260425T081016
CREATED:20250610T210946Z
LAST-MODIFIED:20250610T210946Z
UID:10088-1767724200-1767731400@bethel-md.org
SUMMARY:Bridge Game
DESCRIPTION:
URL:https://bethel-md.org/events/bridge-game/2026-01-06/
LOCATION:Bethel Presbyterian Church\, 4135 Norrisville Road\, White Hall\, MD\, 21161\, United States
GEO:39.613627;-76.522608
X-APPLE-STRUCTURED-LOCATION;VALUE=URI;X-ADDRESS=Bethel Presbyterian Church 4135 Norrisville Road White Hall MD 21161 United States;X-APPLE-RADIUS=500;X-TITLE=4135 Norrisville Road:geo:-76.522608,39.613627
END:VEVENT
BEGIN:VEVENT
DTSTART;TZID=America/New_York:20251230T183000
DTEND;TZID=America/New_York:20251230T203000
DTSTAMP:20260425T081016
CREATED:20250610T210946Z
LAST-MODIFIED:20250610T210946Z
UID:10087-1767119400-1767126600@bethel-md.org
SUMMARY:Bridge Game
DESCRIPTION:
URL:https://bethel-md.org/events/bridge-game/2025-12-30/
LOCATION:Bethel Presbyterian Church\, 4135 Norrisville Road\, White Hall\, MD\, 21161\, United States
GEO:39.613627;-76.522608
X-APPLE-STRUCTURED-LOCATION;VALUE=URI;X-ADDRESS=Bethel Presbyterian Church 4135 Norrisville Road White Hall MD 21161 United States;X-APPLE-RADIUS=500;X-TITLE=4135 Norrisville Road:geo:-76.522608,39.613627
END:VEVENT
BEGIN:VEVENT
DTSTART;TZID=America/New_York:20251223T183000
DTEND;TZID=America/New_York:20251223T203000
DTSTAMP:20260425T081016
CREATED:20250610T210946Z
LAST-MODIFIED:20250610T210946Z
UID:10086-1766514600-1766521800@bethel-md.org
SUMMARY:Bridge Game
DESCRIPTION:
URL:https://bethel-md.org/events/bridge-game/2025-12-23/
LOCATION:Bethel Presbyterian Church\, 4135 Norrisville Road\, White Hall\, MD\, 21161\, United States
GEO:39.613627;-76.522608
X-APPLE-STRUCTURED-LOCATION;VALUE=URI;X-ADDRESS=Bethel Presbyterian Church 4135 Norrisville Road White Hall MD 21161 United States;X-APPLE-RADIUS=500;X-TITLE=4135 Norrisville Road:geo:-76.522608,39.613627
END:VEVENT
BEGIN:VEVENT
DTSTART;TZID=America/New_York:20251216T183000
DTEND;TZID=America/New_York:20251216T203000
DTSTAMP:20260425T081016
CREATED:20250610T210946Z
LAST-MODIFIED:20250610T210946Z
UID:10085-1765909800-1765917000@bethel-md.org
SUMMARY:Bridge Game
DESCRIPTION:
URL:https://bethel-md.org/events/bridge-game/2025-12-16/
LOCATION:Bethel Presbyterian Church\, 4135 Norrisville Road\, White Hall\, MD\, 21161\, United States
GEO:39.613627;-76.522608
X-APPLE-STRUCTURED-LOCATION;VALUE=URI;X-ADDRESS=Bethel Presbyterian Church 4135 Norrisville Road White Hall MD 21161 United States;X-APPLE-RADIUS=500;X-TITLE=4135 Norrisville Road:geo:-76.522608,39.613627
END:VEVENT
BEGIN:VEVENT
DTSTART;TZID=America/New_York:20251209T183000
DTEND;TZID=America/New_York:20251209T203000
DTSTAMP:20260425T081016
CREATED:20250610T210946Z
LAST-MODIFIED:20250610T210946Z
UID:10084-1765305000-1765312200@bethel-md.org
SUMMARY:Bridge Game
DESCRIPTION:
URL:https://bethel-md.org/events/bridge-game/2025-12-09/
LOCATION:Bethel Presbyterian Church\, 4135 Norrisville Road\, White Hall\, MD\, 21161\, United States
GEO:39.613627;-76.522608
X-APPLE-STRUCTURED-LOCATION;VALUE=URI;X-ADDRESS=Bethel Presbyterian Church 4135 Norrisville Road White Hall MD 21161 United States;X-APPLE-RADIUS=500;X-TITLE=4135 Norrisville Road:geo:-76.522608,39.613627
END:VEVENT
BEGIN:VEVENT
DTSTART;TZID=America/New_York:20251202T183000
DTEND;TZID=America/New_York:20251202T203000
DTSTAMP:20260425T081016
CREATED:20250610T210946Z
LAST-MODIFIED:20250610T210946Z
UID:10083-1764700200-1764707400@bethel-md.org
SUMMARY:Bridge Game
DESCRIPTION:
URL:https://bethel-md.org/events/bridge-game/2025-12-02/
LOCATION:Bethel Presbyterian Church\, 4135 Norrisville Road\, White Hall\, MD\, 21161\, United States
GEO:39.613627;-76.522608
X-APPLE-STRUCTURED-LOCATION;VALUE=URI;X-ADDRESS=Bethel Presbyterian Church 4135 Norrisville Road White Hall MD 21161 United States;X-APPLE-RADIUS=500;X-TITLE=4135 Norrisville Road:geo:-76.522608,39.613627
END:VEVENT
BEGIN:VEVENT
DTSTART;TZID=America/New_York:20251125T183000
DTEND;TZID=America/New_York:20251125T203000
DTSTAMP:20260425T081016
CREATED:20250610T210946Z
LAST-MODIFIED:20250610T210946Z
UID:10082-1764095400-1764102600@bethel-md.org
SUMMARY:Bridge Game
DESCRIPTION:
URL:https://bethel-md.org/events/bridge-game/2025-11-25/
LOCATION:Bethel Presbyterian Church\, 4135 Norrisville Road\, White Hall\, MD\, 21161\, United States
GEO:39.613627;-76.522608
X-APPLE-STRUCTURED-LOCATION;VALUE=URI;X-ADDRESS=Bethel Presbyterian Church 4135 Norrisville Road White Hall MD 21161 United States;X-APPLE-RADIUS=500;X-TITLE=4135 Norrisville Road:geo:-76.522608,39.613627
END:VEVENT
BEGIN:VEVENT
DTSTART;TZID=America/New_York:20251118T183000
DTEND;TZID=America/New_York:20251118T203000
DTSTAMP:20260425T081016
CREATED:20250610T210946Z
LAST-MODIFIED:20250610T210946Z
UID:10081-1763490600-1763497800@bethel-md.org
SUMMARY:Bridge Game
DESCRIPTION:
URL:https://bethel-md.org/events/bridge-game/2025-11-18/
LOCATION:Bethel Presbyterian Church\, 4135 Norrisville Road\, White Hall\, MD\, 21161\, United States
GEO:39.613627;-76.522608
X-APPLE-STRUCTURED-LOCATION;VALUE=URI;X-ADDRESS=Bethel Presbyterian Church 4135 Norrisville Road White Hall MD 21161 United States;X-APPLE-RADIUS=500;X-TITLE=4135 Norrisville Road:geo:-76.522608,39.613627
END:VEVENT
BEGIN:VEVENT
DTSTART;TZID=America/New_York:20251111T183000
DTEND;TZID=America/New_York:20251111T203000
DTSTAMP:20260425T081016
CREATED:20250610T210946Z
LAST-MODIFIED:20250610T210946Z
UID:10080-1762885800-1762893000@bethel-md.org
SUMMARY:Bridge Game
DESCRIPTION:
URL:https://bethel-md.org/events/bridge-game/2025-11-11/
LOCATION:Bethel Presbyterian Church\, 4135 Norrisville Road\, White Hall\, MD\, 21161\, United States
GEO:39.613627;-76.522608
X-APPLE-STRUCTURED-LOCATION;VALUE=URI;X-ADDRESS=Bethel Presbyterian Church 4135 Norrisville Road White Hall MD 21161 United States;X-APPLE-RADIUS=500;X-TITLE=4135 Norrisville Road:geo:-76.522608,39.613627
END:VEVENT
BEGIN:VEVENT
DTSTART;TZID=America/New_York:20251104T183000
DTEND;TZID=America/New_York:20251104T203000
DTSTAMP:20260425T081016
CREATED:20250610T210946Z
LAST-MODIFIED:20250610T210946Z
UID:10079-1762281000-1762288200@bethel-md.org
SUMMARY:Bridge Game
DESCRIPTION:
URL:https://bethel-md.org/events/bridge-game/2025-11-04/
LOCATION:Bethel Presbyterian Church\, 4135 Norrisville Road\, White Hall\, MD\, 21161\, United States
GEO:39.613627;-76.522608
X-APPLE-STRUCTURED-LOCATION;VALUE=URI;X-ADDRESS=Bethel Presbyterian Church 4135 Norrisville Road White Hall MD 21161 United States;X-APPLE-RADIUS=500;X-TITLE=4135 Norrisville Road:geo:-76.522608,39.613627
END:VEVENT
BEGIN:VEVENT
DTSTART;TZID=America/New_York:20251028T183000
DTEND;TZID=America/New_York:20251028T203000
DTSTAMP:20260425T081016
CREATED:20250610T210946Z
LAST-MODIFIED:20250610T210946Z
UID:10078-1761676200-1761683400@bethel-md.org
SUMMARY:Bridge Game
DESCRIPTION:
URL:https://bethel-md.org/events/bridge-game/2025-10-28/
LOCATION:Bethel Presbyterian Church\, 4135 Norrisville Road\, White Hall\, MD\, 21161\, United States
GEO:39.613627;-76.522608
X-APPLE-STRUCTURED-LOCATION;VALUE=URI;X-ADDRESS=Bethel Presbyterian Church 4135 Norrisville Road White Hall MD 21161 United States;X-APPLE-RADIUS=500;X-TITLE=4135 Norrisville Road:geo:-76.522608,39.613627
END:VEVENT
BEGIN:VEVENT
DTSTART;TZID=America/New_York:20251021T183000
DTEND;TZID=America/New_York:20251021T203000
DTSTAMP:20260425T081016
CREATED:20250610T210946Z
LAST-MODIFIED:20250610T210946Z
UID:10077-1761071400-1761078600@bethel-md.org
SUMMARY:Bridge Game
DESCRIPTION:
URL:https://bethel-md.org/events/bridge-game/2025-10-21/
LOCATION:Bethel Presbyterian Church\, 4135 Norrisville Road\, White Hall\, MD\, 21161\, United States
GEO:39.613627;-76.522608
X-APPLE-STRUCTURED-LOCATION;VALUE=URI;X-ADDRESS=Bethel Presbyterian Church 4135 Norrisville Road White Hall MD 21161 United States;X-APPLE-RADIUS=500;X-TITLE=4135 Norrisville Road:geo:-76.522608,39.613627
END:VEVENT
BEGIN:VEVENT
DTSTART;TZID=America/New_York:20251014T183000
DTEND;TZID=America/New_York:20251014T203000
DTSTAMP:20260425T081016
CREATED:20250610T210946Z
LAST-MODIFIED:20250610T210946Z
UID:10076-1760466600-1760473800@bethel-md.org
SUMMARY:Bridge Game
DESCRIPTION:
URL:https://bethel-md.org/events/bridge-game/2025-10-14/
LOCATION:Bethel Presbyterian Church\, 4135 Norrisville Road\, White Hall\, MD\, 21161\, United States
GEO:39.613627;-76.522608
X-APPLE-STRUCTURED-LOCATION;VALUE=URI;X-ADDRESS=Bethel Presbyterian Church 4135 Norrisville Road White Hall MD 21161 United States;X-APPLE-RADIUS=500;X-TITLE=4135 Norrisville Road:geo:-76.522608,39.613627
END:VEVENT
BEGIN:VEVENT
DTSTART;TZID=America/New_York:20251007T183000
DTEND;TZID=America/New_York:20251007T203000
DTSTAMP:20260425T081016
CREATED:20250610T210946Z
LAST-MODIFIED:20250610T210946Z
UID:10075-1759861800-1759869000@bethel-md.org
SUMMARY:Bridge Game
DESCRIPTION:
URL:https://bethel-md.org/events/bridge-game/2025-10-07/
LOCATION:Bethel Presbyterian Church\, 4135 Norrisville Road\, White Hall\, MD\, 21161\, United States
GEO:39.613627;-76.522608
X-APPLE-STRUCTURED-LOCATION;VALUE=URI;X-ADDRESS=Bethel Presbyterian Church 4135 Norrisville Road White Hall MD 21161 United States;X-APPLE-RADIUS=500;X-TITLE=4135 Norrisville Road:geo:-76.522608,39.613627
END:VEVENT
BEGIN:VEVENT
DTSTART;TZID=America/New_York:20250930T183000
DTEND;TZID=America/New_York:20250930T203000
DTSTAMP:20260425T081016
CREATED:20250610T210946Z
LAST-MODIFIED:20250610T210946Z
UID:10074-1759257000-1759264200@bethel-md.org
SUMMARY:Bridge Game
DESCRIPTION:
URL:https://bethel-md.org/events/bridge-game/2025-09-30/
LOCATION:Bethel Presbyterian Church\, 4135 Norrisville Road\, White Hall\, MD\, 21161\, United States
GEO:39.613627;-76.522608
X-APPLE-STRUCTURED-LOCATION;VALUE=URI;X-ADDRESS=Bethel Presbyterian Church 4135 Norrisville Road White Hall MD 21161 United States;X-APPLE-RADIUS=500;X-TITLE=4135 Norrisville Road:geo:-76.522608,39.613627
END:VEVENT
BEGIN:VEVENT
DTSTART;TZID=America/New_York:20250923T183000
DTEND;TZID=America/New_York:20250923T203000
DTSTAMP:20260425T081016
CREATED:20250610T210946Z
LAST-MODIFIED:20250610T210946Z
UID:10073-1758652200-1758659400@bethel-md.org
SUMMARY:Bridge Game
DESCRIPTION:
URL:https://bethel-md.org/events/bridge-game/2025-09-23/
LOCATION:Bethel Presbyterian Church\, 4135 Norrisville Road\, White Hall\, MD\, 21161\, United States
GEO:39.613627;-76.522608
X-APPLE-STRUCTURED-LOCATION;VALUE=URI;X-ADDRESS=Bethel Presbyterian Church 4135 Norrisville Road White Hall MD 21161 United States;X-APPLE-RADIUS=500;X-TITLE=4135 Norrisville Road:geo:-76.522608,39.613627
END:VEVENT
BEGIN:VEVENT
DTSTART;TZID=America/New_York:20250916T183000
DTEND;TZID=America/New_York:20250916T203000
DTSTAMP:20260425T081016
CREATED:20250610T210946Z
LAST-MODIFIED:20250610T210946Z
UID:10072-1758047400-1758054600@bethel-md.org
SUMMARY:Bridge Game
DESCRIPTION:
URL:https://bethel-md.org/events/bridge-game/2025-09-16/
LOCATION:Bethel Presbyterian Church\, 4135 Norrisville Road\, White Hall\, MD\, 21161\, United States
GEO:39.613627;-76.522608
X-APPLE-STRUCTURED-LOCATION;VALUE=URI;X-ADDRESS=Bethel Presbyterian Church 4135 Norrisville Road White Hall MD 21161 United States;X-APPLE-RADIUS=500;X-TITLE=4135 Norrisville Road:geo:-76.522608,39.613627
END:VEVENT
BEGIN:VEVENT
DTSTART;TZID=America/New_York:20250909T183000
DTEND;TZID=America/New_York:20250909T203000
DTSTAMP:20260425T081016
CREATED:20250610T210946Z
LAST-MODIFIED:20250610T210946Z
UID:10071-1757442600-1757449800@bethel-md.org
SUMMARY:Bridge Game
DESCRIPTION:
URL:https://bethel-md.org/events/bridge-game/2025-09-09/
LOCATION:Bethel Presbyterian Church\, 4135 Norrisville Road\, White Hall\, MD\, 21161\, United States
GEO:39.613627;-76.522608
X-APPLE-STRUCTURED-LOCATION;VALUE=URI;X-ADDRESS=Bethel Presbyterian Church 4135 Norrisville Road White Hall MD 21161 United States;X-APPLE-RADIUS=500;X-TITLE=4135 Norrisville Road:geo:-76.522608,39.613627
END:VEVENT
BEGIN:VEVENT
DTSTART;TZID=America/New_York:20250902T183000
DTEND;TZID=America/New_York:20250902T203000
DTSTAMP:20260425T081016
CREATED:20250610T210946Z
LAST-MODIFIED:20250610T210946Z
UID:10070-1756837800-1756845000@bethel-md.org
SUMMARY:Bridge Game
DESCRIPTION:
URL:https://bethel-md.org/events/bridge-game/2025-09-02/
LOCATION:Bethel Presbyterian Church\, 4135 Norrisville Road\, White Hall\, MD\, 21161\, United States
GEO:39.613627;-76.522608
X-APPLE-STRUCTURED-LOCATION;VALUE=URI;X-ADDRESS=Bethel Presbyterian Church 4135 Norrisville Road White Hall MD 21161 United States;X-APPLE-RADIUS=500;X-TITLE=4135 Norrisville Road:geo:-76.522608,39.613627
END:VEVENT
BEGIN:VEVENT
DTSTART;TZID=America/New_York:20250826T183000
DTEND;TZID=America/New_York:20250826T203000
DTSTAMP:20260425T081016
CREATED:20250610T210946Z
LAST-MODIFIED:20250610T210946Z
UID:10069-1756233000-1756240200@bethel-md.org
SUMMARY:Bridge Game
DESCRIPTION:
URL:https://bethel-md.org/events/bridge-game/2025-08-26/
LOCATION:Bethel Presbyterian Church\, 4135 Norrisville Road\, White Hall\, MD\, 21161\, United States
GEO:39.613627;-76.522608
X-APPLE-STRUCTURED-LOCATION;VALUE=URI;X-ADDRESS=Bethel Presbyterian Church 4135 Norrisville Road White Hall MD 21161 United States;X-APPLE-RADIUS=500;X-TITLE=4135 Norrisville Road:geo:-76.522608,39.613627
END:VEVENT
BEGIN:VEVENT
DTSTART;TZID=America/New_York:20250819T183000
DTEND;TZID=America/New_York:20250819T203000
DTSTAMP:20260425T081016
CREATED:20250610T210946Z
LAST-MODIFIED:20250610T210946Z
UID:10068-1755628200-1755635400@bethel-md.org
SUMMARY:Bridge Game
DESCRIPTION:
URL:https://bethel-md.org/events/bridge-game/2025-08-19/
LOCATION:Bethel Presbyterian Church\, 4135 Norrisville Road\, White Hall\, MD\, 21161\, United States
GEO:39.613627;-76.522608
X-APPLE-STRUCTURED-LOCATION;VALUE=URI;X-ADDRESS=Bethel Presbyterian Church 4135 Norrisville Road White Hall MD 21161 United States;X-APPLE-RADIUS=500;X-TITLE=4135 Norrisville Road:geo:-76.522608,39.613627
END:VEVENT
BEGIN:VEVENT
DTSTART;TZID=America/New_York:20250812T183000
DTEND;TZID=America/New_York:20250812T203000
DTSTAMP:20260425T081016
CREATED:20250610T210946Z
LAST-MODIFIED:20250610T210946Z
UID:10067-1755023400-1755030600@bethel-md.org
SUMMARY:Bridge Game
DESCRIPTION:
URL:https://bethel-md.org/events/bridge-game/2025-08-12/
LOCATION:Bethel Presbyterian Church\, 4135 Norrisville Road\, White Hall\, MD\, 21161\, United States
GEO:39.613627;-76.522608
X-APPLE-STRUCTURED-LOCATION;VALUE=URI;X-ADDRESS=Bethel Presbyterian Church 4135 Norrisville Road White Hall MD 21161 United States;X-APPLE-RADIUS=500;X-TITLE=4135 Norrisville Road:geo:-76.522608,39.613627
END:VEVENT
BEGIN:VEVENT
DTSTART;TZID=America/New_York:20250805T183000
DTEND;TZID=America/New_York:20250805T203000
DTSTAMP:20260425T081016
CREATED:20250610T210946Z
LAST-MODIFIED:20250610T210946Z
UID:10066-1754418600-1754425800@bethel-md.org
SUMMARY:Bridge Game
DESCRIPTION:
URL:https://bethel-md.org/events/bridge-game/2025-08-05/
LOCATION:Bethel Presbyterian Church\, 4135 Norrisville Road\, White Hall\, MD\, 21161\, United States
GEO:39.613627;-76.522608
X-APPLE-STRUCTURED-LOCATION;VALUE=URI;X-ADDRESS=Bethel Presbyterian Church 4135 Norrisville Road White Hall MD 21161 United States;X-APPLE-RADIUS=500;X-TITLE=4135 Norrisville Road:geo:-76.522608,39.613627
END:VEVENT
BEGIN:VEVENT
DTSTART;TZID=America/New_York:20250729T183000
DTEND;TZID=America/New_York:20250729T203000
DTSTAMP:20260425T081016
CREATED:20250610T210946Z
LAST-MODIFIED:20250610T210946Z
UID:10065-1753813800-1753821000@bethel-md.org
SUMMARY:Bridge Game
DESCRIPTION:
URL:https://bethel-md.org/events/bridge-game/2025-07-29/
LOCATION:Bethel Presbyterian Church\, 4135 Norrisville Road\, White Hall\, MD\, 21161\, United States
GEO:39.613627;-76.522608
X-APPLE-STRUCTURED-LOCATION;VALUE=URI;X-ADDRESS=Bethel Presbyterian Church 4135 Norrisville Road White Hall MD 21161 United States;X-APPLE-RADIUS=500;X-TITLE=4135 Norrisville Road:geo:-76.522608,39.613627
END:VEVENT
BEGIN:VEVENT
DTSTART;TZID=America/New_York:20250722T183000
DTEND;TZID=America/New_York:20250722T203000
DTSTAMP:20260425T081016
CREATED:20250610T210946Z
LAST-MODIFIED:20250610T210946Z
UID:10064-1753209000-1753216200@bethel-md.org
SUMMARY:Bridge Game
DESCRIPTION:
URL:https://bethel-md.org/events/bridge-game/2025-07-22/
LOCATION:Bethel Presbyterian Church\, 4135 Norrisville Road\, White Hall\, MD\, 21161\, United States
GEO:39.613627;-76.522608
X-APPLE-STRUCTURED-LOCATION;VALUE=URI;X-ADDRESS=Bethel Presbyterian Church 4135 Norrisville Road White Hall MD 21161 United States;X-APPLE-RADIUS=500;X-TITLE=4135 Norrisville Road:geo:-76.522608,39.613627
END:VEVENT
BEGIN:VEVENT
DTSTART;TZID=America/New_York:20250715T183000
DTEND;TZID=America/New_York:20250715T203000
DTSTAMP:20260425T081016
CREATED:20250610T210946Z
LAST-MODIFIED:20250610T210946Z
UID:10063-1752604200-1752611400@bethel-md.org
SUMMARY:Bridge Game
DESCRIPTION:
URL:https://bethel-md.org/events/bridge-game/2025-07-15/
LOCATION:Bethel Presbyterian Church\, 4135 Norrisville Road\, White Hall\, MD\, 21161\, United States
GEO:39.613627;-76.522608
X-APPLE-STRUCTURED-LOCATION;VALUE=URI;X-ADDRESS=Bethel Presbyterian Church 4135 Norrisville Road White Hall MD 21161 United States;X-APPLE-RADIUS=500;X-TITLE=4135 Norrisville Road:geo:-76.522608,39.613627
END:VEVENT
BEGIN:VEVENT
DTSTART;TZID=America/New_York:20250708T183000
DTEND;TZID=America/New_York:20250708T203000
DTSTAMP:20260425T081016
CREATED:20250610T210946Z
LAST-MODIFIED:20250610T210946Z
UID:10062-1751999400-1752006600@bethel-md.org
SUMMARY:Bridge Game
DESCRIPTION:
URL:https://bethel-md.org/events/bridge-game/2025-07-08/
LOCATION:Bethel Presbyterian Church\, 4135 Norrisville Road\, White Hall\, MD\, 21161\, United States
GEO:39.613627;-76.522608
X-APPLE-STRUCTURED-LOCATION;VALUE=URI;X-ADDRESS=Bethel Presbyterian Church 4135 Norrisville Road White Hall MD 21161 United States;X-APPLE-RADIUS=500;X-TITLE=4135 Norrisville Road:geo:-76.522608,39.613627
END:VEVENT
END:VCALENDAR